BEGIN:VCALENDAR
VERSION:2.0
PRODID:-// Nelson Alexander - Northcote iCal
CALSCALE:GREGORIAN
X-WR-CALDESC:
X-WR-CALNAME:
BEGIN:VEVENT
SUMMARY:Ofi for 6/6 Rae Street\, Fitzroy North VIC 3068 
DTSTART;TZID=UTC;VALUE=DATE-TIME:20260430T070000Z
DTEND;TZID=UTC;VALUE=DATE-TIME:20260430T071500Z
DTSTAMP;VALUE=DATE-TIME:20260426T035837Z
CATEGORIES:APPOINTMENT
DESCRIPTION:Ofi for 6/6 Rae Street\, Fitzroy North VIC 3068 
LOCATION:6/6 Rae Street\, Fitzroy North VIC 3068 
URL:https://www.nelsonalexander.com.au/property/1892965/66-rae-street-fitz
 roy-north-vic-3068/
END:VEVENT
END:VCALENDAR
