BEGIN:VCALENDAR
VERSION:2.0
PRODID:-// Nelson Alexander - Northcote iCal
CALSCALE:GREGORIAN
X-WR-CALDESC:
X-WR-CALNAME:
BEGIN:VEVENT
SUMMARY:Ofi for 16B Hunter Street\, Abbotsford VIC 3067 
DTSTART;TZID=UTC;VALUE=DATE-TIME:20260429T071000Z
DTEND;TZID=UTC;VALUE=DATE-TIME:20260429T072500Z
DTSTAMP;VALUE=DATE-TIME:20260425T220854Z
CATEGORIES:APPOINTMENT
DESCRIPTION:Ofi for 16B Hunter Street\, Abbotsford VIC 3067 
LOCATION:16B Hunter Street\, Abbotsford VIC 3067 
URL:https://www.nelsonalexander.com.au/property/1892948/16b-hunter-street-
 abbotsford-vic-3067/
END:VEVENT
END:VCALENDAR
