BEGIN:VCALENDAR
VERSION:2.0
PRODID:-// Nelson Alexander - Northcote iCal
CALSCALE:GREGORIAN
X-WR-CALDESC:
X-WR-CALNAME:
BEGIN:VEVENT
SUMMARY:Ofi for 19 Cypress Avenue\, Burwood VIC 3125 
DTSTART;TZID=UTC;VALUE=DATE-TIME:20260428T030000Z
DTEND;TZID=UTC;VALUE=DATE-TIME:20260428T031000Z
DTSTAMP;VALUE=DATE-TIME:20260425T214829Z
CATEGORIES:APPOINTMENT
DESCRIPTION:Ofi for 19 Cypress Avenue\, Burwood VIC 3125 
LOCATION:19 Cypress Avenue\, Burwood VIC 3125 
URL:https://www.nelsonalexander.com.au/property/1892918/19-cypress-avenue-
 burwood-vic-3125/
END:VEVENT
END:VCALENDAR
