BEGIN:VCALENDAR
VERSION:2.0
PRODID:-// Nelson Alexander - Northcote iCal
CALSCALE:GREGORIAN
X-WR-CALDESC:
X-WR-CALNAME:
BEGIN:VEVENT
SUMMARY:Ofi for 7 Lovett Walk\, Footscray VIC 3011 
DTSTART;TZID=UTC;VALUE=DATE-TIME:20260429T060000Z
DTEND;TZID=UTC;VALUE=DATE-TIME:20260429T061500Z
DTSTAMP;VALUE=DATE-TIME:20260426T023138Z
CATEGORIES:APPOINTMENT
DESCRIPTION:Ofi for 7 Lovett Walk\, Footscray VIC 3011 
LOCATION:7 Lovett Walk\, Footscray VIC 3011 
URL:https://www.nelsonalexander.com.au/property/1892931/7-lovett-walk-foot
 scray-vic-3011/
END:VEVENT
END:VCALENDAR
