BEGIN:VCALENDAR
VERSION:2.0
PRODID:-// Nelson Alexander - Northcote iCal
CALSCALE:GREGORIAN
X-WR-CALDESC:
X-WR-CALNAME:
BEGIN:VEVENT
SUMMARY:Ofi for 2/46 Woodland Street\, Strathmore VIC 3041 
DTSTART;TZID=UTC;VALUE=DATE-TIME:20260429T044500Z
DTEND;TZID=UTC;VALUE=DATE-TIME:20260429T050000Z
DTSTAMP;VALUE=DATE-TIME:20260425T215551Z
CATEGORIES:APPOINTMENT
DESCRIPTION:Ofi for 2/46 Woodland Street\, Strathmore VIC 3041 
LOCATION:2/46 Woodland Street\, Strathmore VIC 3041 
URL:https://www.nelsonalexander.com.au/property/1892927/246-woodland-stree
 t-strathmore-vic-3041/
END:VEVENT
END:VCALENDAR
