BEGIN:VCALENDAR
VERSION:2.0
PRODID:-// Nelson Alexander - Northcote iCal
CALSCALE:GREGORIAN
X-WR-CALDESC:
X-WR-CALNAME:
BEGIN:VEVENT
SUMMARY:Ofi for 6/85-87 Lambeth Street\, Kensington VIC 3031 
DTSTART;TZID=UTC;VALUE=DATE-TIME:20260429T074500Z
DTEND;TZID=UTC;VALUE=DATE-TIME:20260429T081500Z
DTSTAMP;VALUE=DATE-TIME:20260426T023334Z
CATEGORIES:APPOINTMENT
DESCRIPTION:Ofi for 6/85-87 Lambeth Street\, Kensington VIC 3031 
LOCATION:6/85-87 Lambeth Street\, Kensington VIC 3031 
URL:https://www.nelsonalexander.com.au/property/1892924/685-87-lambeth-str
 eet-kensington-vic-3031/
END:VEVENT
END:VCALENDAR
