BEGIN:VCALENDAR
VERSION:2.0
PRODID:-// Nelson Alexander - Northcote iCal
CALSCALE:GREGORIAN
X-WR-CALDESC:
X-WR-CALNAME:
BEGIN:VEVENT
SUMMARY:Ofi for 11 Gould Street\, Coburg VIC 3058 
DTSTART;TZID=UTC;VALUE=DATE-TIME:20260429T070000Z
DTEND;TZID=UTC;VALUE=DATE-TIME:20260429T073000Z
DTSTAMP;VALUE=DATE-TIME:20260425T232058Z
CATEGORIES:APPOINTMENT
DESCRIPTION:Ofi for 11 Gould Street\, Coburg VIC 3058 
LOCATION:11 Gould Street\, Coburg VIC 3058 
URL:https://www.nelsonalexander.com.au/property/1892921/11-gould-street-co
 burg-vic-3058/
END:VEVENT
END:VCALENDAR
