BEGIN:VCALENDAR
VERSION:2.0
PRODID:-// Nelson Alexander - Northcote iCal
CALSCALE:GREGORIAN
X-WR-CALDESC:
X-WR-CALNAME:
BEGIN:VEVENT
SUMMARY:Ofi for 4 Budd Street\, Collingwood VIC 3066 
DTSTART;TZID=UTC;VALUE=DATE-TIME:20260430T070000Z
DTEND;TZID=UTC;VALUE=DATE-TIME:20260430T071500Z
DTSTAMP;VALUE=DATE-TIME:20260426T023307Z
CATEGORIES:APPOINTMENT
DESCRIPTION:Ofi for 4 Budd Street\, Collingwood VIC 3066 
LOCATION:4 Budd Street\, Collingwood VIC 3066 
URL:https://www.nelsonalexander.com.au/property/1892912/4-budd-street-coll
 ingwood-vic-3066/
END:VEVENT
END:VCALENDAR
