BEGIN:VCALENDAR
VERSION:2.0
PRODID:-// Nelson Alexander - Northcote iCal
CALSCALE:GREGORIAN
X-WR-CALDESC:
X-WR-CALNAME:
BEGIN:VEVENT
SUMMARY:Ofi for 2/4 Clyde Street\, Kew East VIC 3102 
DTSTART;TZID=UTC;VALUE=DATE-TIME:20260429T063000Z
DTEND;TZID=UTC;VALUE=DATE-TIME:20260429T064000Z
DTSTAMP;VALUE=DATE-TIME:20260425T214918Z
CATEGORIES:APPOINTMENT
DESCRIPTION:Ofi for 2/4 Clyde Street\, Kew East VIC 3102 
LOCATION:2/4 Clyde Street\, Kew East VIC 3102 
URL:https://www.nelsonalexander.com.au/property/1892901/24-clyde-street-ke
 w-east-vic-3102/
END:VEVENT
END:VCALENDAR
