BEGIN:VCALENDAR
VERSION:2.0
PRODID:-// Nelson Alexander - Northcote iCal
CALSCALE:GREGORIAN
X-WR-CALDESC:
X-WR-CALNAME:
BEGIN:VEVENT
SUMMARY:Ofi for 6/96 Willsmere Road\, Kew VIC 3101 
DTSTART;TZID=UTC;VALUE=DATE-TIME:20260429T070000Z
DTEND;TZID=UTC;VALUE=DATE-TIME:20260429T071500Z
DTSTAMP;VALUE=DATE-TIME:20260426T023405Z
CATEGORIES:APPOINTMENT
DESCRIPTION:Ofi for 6/96 Willsmere Road\, Kew VIC 3101 
LOCATION:6/96 Willsmere Road\, Kew VIC 3101 
URL:https://www.nelsonalexander.com.au/property/1892897/696-willsmere-road
 -kew-vic-3101/
END:VEVENT
END:VCALENDAR
