BEGIN:VCALENDAR
VERSION:2.0
PRODID:-// Nelson Alexander - Northcote iCal
CALSCALE:GREGORIAN
X-WR-CALDESC:
X-WR-CALNAME:
BEGIN:VEVENT
SUMMARY:Ofi for 39 Connolly Avenue\, Coburg VIC 3058 
DTSTART;TZID=UTC;VALUE=DATE-TIME:20260430T031500Z
DTEND;TZID=UTC;VALUE=DATE-TIME:20260430T033000Z
DTSTAMP;VALUE=DATE-TIME:20260426T023235Z
CATEGORIES:APPOINTMENT
DESCRIPTION:Ofi for 39 Connolly Avenue\, Coburg VIC 3058 
LOCATION:39 Connolly Avenue\, Coburg VIC 3058 
URL:https://www.nelsonalexander.com.au/property/1892775/39-connolly-avenue
 -coburg-vic-3058/
END:VEVENT
END:VCALENDAR
