BEGIN:VCALENDAR
VERSION:2.0
PRODID:-// Nelson Alexander - Northcote iCal
CALSCALE:GREGORIAN
X-WR-CALDESC:
X-WR-CALNAME:
BEGIN:VEVENT
SUMMARY:Ofi for 42 Ascot Vale Road\, Flemington VIC 3031 
DTSTART;TZID=UTC;VALUE=DATE-TIME:20260428T074500Z
DTEND;TZID=UTC;VALUE=DATE-TIME:20260428T081500Z
DTSTAMP;VALUE=DATE-TIME:20260425T214858Z
CATEGORIES:APPOINTMENT
DESCRIPTION:Ofi for 42 Ascot Vale Road\, Flemington VIC 3031 
LOCATION:42 Ascot Vale Road\, Flemington VIC 3031 
URL:https://www.nelsonalexander.com.au/property/1892725/42-ascot-vale-road
 -flemington-vic-3031/
END:VEVENT
END:VCALENDAR
