BEGIN:VCALENDAR
VERSION:2.0
PRODID:-// Nelson Alexander - Northcote iCal
CALSCALE:GREGORIAN
X-WR-CALDESC:
X-WR-CALNAME:
BEGIN:VEVENT
SUMMARY:Ofi for 401/36 Lilydale Grove\, Hawthorn East VIC 3123 
DTSTART;TZID=UTC;VALUE=DATE-TIME:20260428T061500Z
DTEND;TZID=UTC;VALUE=DATE-TIME:20260428T063000Z
DTSTAMP;VALUE=DATE-TIME:20260426T023430Z
CATEGORIES:APPOINTMENT
DESCRIPTION:Ofi for 401/36 Lilydale Grove\, Hawthorn East VIC 3123 
LOCATION:401/36 Lilydale Grove\, Hawthorn East VIC 3123 
URL:https://www.nelsonalexander.com.au/property/1892397/40136-lilydale-gro
 ve-hawthorn-east-vic-3123/
END:VEVENT
END:VCALENDAR
