BEGIN:VCALENDAR
VERSION:2.0
PRODID:-// Nelson Alexander - Northcote iCal
CALSCALE:GREGORIAN
X-WR-CALDESC:
X-WR-CALNAME:
BEGIN:VEVENT
SUMMARY:Ofi for 1 Peacock Street\, Brunswick West VIC 3055 
DTSTART;TZID=UTC;VALUE=DATE-TIME:20260430T073000Z
DTEND;TZID=UTC;VALUE=DATE-TIME:20260430T080000Z
DTSTAMP;VALUE=DATE-TIME:20260426T010235Z
CATEGORIES:APPOINTMENT
DESCRIPTION:Ofi for 1 Peacock Street\, Brunswick West VIC 3055 
LOCATION:1 Peacock Street\, Brunswick West VIC 3055 
URL:https://www.nelsonalexander.com.au/property/1892346/1-peacock-street-b
 runswick-west-vic-3055/
END:VEVENT
END:VCALENDAR
