BEGIN:VCALENDAR
VERSION:2.0
PRODID:-// Nelson Alexander - Northcote iCal
CALSCALE:GREGORIAN
X-WR-CALDESC:
X-WR-CALNAME:
BEGIN:VEVENT
SUMMARY:Ofi for 10 Stan Street\, Clifton Hill VIC 3068 
DTSTART;TZID=UTC;VALUE=DATE-TIME:20260430T070000Z
DTEND;TZID=UTC;VALUE=DATE-TIME:20260430T071500Z
DTSTAMP;VALUE=DATE-TIME:20260425T230727Z
CATEGORIES:APPOINTMENT
DESCRIPTION:Ofi for 10 Stan Street\, Clifton Hill VIC 3068 
LOCATION:10 Stan Street\, Clifton Hill VIC 3068 
URL:https://www.nelsonalexander.com.au/property/1892342/10-stan-street-cli
 fton-hill-vic-3068/
END:VEVENT
END:VCALENDAR
