BEGIN:VCALENDAR
VERSION:2.0
PRODID:-// Nelson Alexander - Northcote iCal
CALSCALE:GREGORIAN
X-WR-CALDESC:
X-WR-CALNAME:
BEGIN:VEVENT
SUMMARY:Ofi for 6/87 Denham Street\, Hawthorn VIC 3122 
DTSTART;TZID=UTC;VALUE=DATE-TIME:20260427T030000Z
DTEND;TZID=UTC;VALUE=DATE-TIME:20260427T031000Z
DTSTAMP;VALUE=DATE-TIME:20260425T230825Z
CATEGORIES:APPOINTMENT
DESCRIPTION:Ofi for 6/87 Denham Street\, Hawthorn VIC 3122 
LOCATION:6/87 Denham Street\, Hawthorn VIC 3122 
URL:https://www.nelsonalexander.com.au/property/1892328/687-denham-street-
 hawthorn-vic-3122/
END:VEVENT
END:VCALENDAR
