BEGIN:VCALENDAR
VERSION:2.0
PRODID:-// Nelson Alexander - Northcote iCal
CALSCALE:GREGORIAN
X-WR-CALDESC:
X-WR-CALNAME:
BEGIN:VEVENT
SUMMARY:Ofi for 101/77 Galada Avenue\, Parkville VIC 3052 
DTSTART;TZID=UTC;VALUE=DATE-TIME:20260428T070000Z
DTEND;TZID=UTC;VALUE=DATE-TIME:20260428T073000Z
DTSTAMP;VALUE=DATE-TIME:20260426T023226Z
CATEGORIES:APPOINTMENT
DESCRIPTION:Ofi for 101/77 Galada Avenue\, Parkville VIC 3052 
LOCATION:101/77 Galada Avenue\, Parkville VIC 3052 
URL:https://www.nelsonalexander.com.au/property/1892291/10177-galada-avenu
 e-parkville-vic-3052/
END:VEVENT
END:VCALENDAR
