BEGIN:VCALENDAR
VERSION:2.0
PRODID:-// Nelson Alexander - Northcote iCal
CALSCALE:GREGORIAN
X-WR-CALDESC:
X-WR-CALNAME:
BEGIN:VEVENT
SUMMARY:Ofi for 3/5 Dagonet Street\, Strathmore VIC 3041 
DTSTART;TZID=UTC;VALUE=DATE-TIME:20260428T071500Z
DTEND;TZID=UTC;VALUE=DATE-TIME:20260428T074500Z
DTSTAMP;VALUE=DATE-TIME:20260425T214747Z
CATEGORIES:APPOINTMENT
DESCRIPTION:Ofi for 3/5 Dagonet Street\, Strathmore VIC 3041 
LOCATION:3/5 Dagonet Street\, Strathmore VIC 3041 
URL:https://www.nelsonalexander.com.au/property/1892279/35-dagonet-street-
 strathmore-vic-3041/
END:VEVENT
END:VCALENDAR
