BEGIN:VCALENDAR
VERSION:2.0
PRODID:-// Nelson Alexander - Northcote iCal
CALSCALE:GREGORIAN
X-WR-CALDESC:
X-WR-CALNAME:
BEGIN:VEVENT
SUMMARY:Ofi for 10 Marie Avenue\, Heidelberg Heights VIC 3081 
DTSTART;TZID=UTC;VALUE=DATE-TIME:20260428T070000Z
DTEND;TZID=UTC;VALUE=DATE-TIME:20260428T071500Z
DTSTAMP;VALUE=DATE-TIME:20260426T010225Z
CATEGORIES:APPOINTMENT
DESCRIPTION:Ofi for 10 Marie Avenue\, Heidelberg Heights VIC 3081 
LOCATION:10 Marie Avenue\, Heidelberg Heights VIC 3081 
URL:https://www.nelsonalexander.com.au/property/1892272/10-marie-avenue-he
 idelberg-heights-vic-3081/
END:VEVENT
END:VCALENDAR
