BEGIN:VCALENDAR
VERSION:2.0
PRODID:-// Nelson Alexander - Northcote iCal
CALSCALE:GREGORIAN
X-WR-CALDESC:
X-WR-CALNAME:
BEGIN:VEVENT
SUMMARY:Ofi for 107D/56 Kambrook Road\, Caulfield North VIC 3161 
DTSTART;TZID=UTC;VALUE=DATE-TIME:20260429T070000Z
DTEND;TZID=UTC;VALUE=DATE-TIME:20260429T071500Z
DTSTAMP;VALUE=DATE-TIME:20260426T023149Z
CATEGORIES:APPOINTMENT
DESCRIPTION:Ofi for 107D/56 Kambrook Road\, Caulfield North VIC 3161 
LOCATION:107D/56 Kambrook Road\, Caulfield North VIC 3161 
URL:https://www.nelsonalexander.com.au/property/1892211/107d56-kambrook-ro
 ad-caulfield-north-vic-3161/
END:VEVENT
END:VCALENDAR
