BEGIN:VCALENDAR
VERSION:2.0
PRODID:-// Nelson Alexander - Northcote iCal
CALSCALE:GREGORIAN
X-WR-CALDESC:
X-WR-CALNAME:
BEGIN:VEVENT
SUMMARY:Ofi for 1/40 Hampton Road\, Essendon West VIC 3040 
DTSTART;TZID=UTC;VALUE=DATE-TIME:20260428T060000Z
DTEND;TZID=UTC;VALUE=DATE-TIME:20260428T061500Z
DTSTAMP;VALUE=DATE-TIME:20260426T010402Z
CATEGORIES:APPOINTMENT
DESCRIPTION:Ofi for 1/40 Hampton Road\, Essendon West VIC 3040 
LOCATION:1/40 Hampton Road\, Essendon West VIC 3040 
URL:https://www.nelsonalexander.com.au/property/1892052/140-hampton-road-e
 ssendon-west-vic-3040/
END:VEVENT
END:VCALENDAR
