BEGIN:VCALENDAR
VERSION:2.0
PRODID:-// Nelson Alexander - Northcote iCal
CALSCALE:GREGORIAN
X-WR-CALDESC:
X-WR-CALNAME:
BEGIN:VEVENT
SUMMARY:Ofi for 21A Howard Street\, Reservoir VIC 3073 
DTSTART;TZID=UTC;VALUE=DATE-TIME:20260428T070000Z
DTEND;TZID=UTC;VALUE=DATE-TIME:20260428T071500Z
DTSTAMP;VALUE=DATE-TIME:20260426T010412Z
CATEGORIES:APPOINTMENT
DESCRIPTION:Ofi for 21A Howard Street\, Reservoir VIC 3073 
LOCATION:21A Howard Street\, Reservoir VIC 3073 
URL:https://www.nelsonalexander.com.au/property/1892020/21a-howard-street-
 reservoir-vic-3073/
END:VEVENT
END:VCALENDAR
