BEGIN:VCALENDAR
VERSION:2.0
PRODID:-// Nelson Alexander - Northcote iCal
CALSCALE:GREGORIAN
X-WR-CALDESC:
X-WR-CALNAME:
BEGIN:VEVENT
SUMMARY:Ofi for 316 Albion Street\, Brunswick VIC 3056 
DTSTART;TZID=UTC;VALUE=DATE-TIME:20260430T070000Z
DTEND;TZID=UTC;VALUE=DATE-TIME:20260430T073000Z
DTSTAMP;VALUE=DATE-TIME:20260426T052443Z
CATEGORIES:APPOINTMENT
DESCRIPTION:Ofi for 316 Albion Street\, Brunswick VIC 3056 
LOCATION:316 Albion Street\, Brunswick VIC 3056 
URL:https://www.nelsonalexander.com.au/property/1891903/316-albion-street-
 brunswick-vic-3056/
END:VEVENT
END:VCALENDAR
