BEGIN:VCALENDAR
VERSION:2.0
PRODID:-// Nelson Alexander - Northcote iCal
CALSCALE:GREGORIAN
X-WR-CALDESC:
X-WR-CALNAME:
BEGIN:VEVENT
SUMMARY:Ofi for 9/24 Tanner Street\, Richmond VIC 3121 
DTSTART;TZID=UTC;VALUE=DATE-TIME:20260429T081500Z
DTEND;TZID=UTC;VALUE=DATE-TIME:20260429T084500Z
DTSTAMP;VALUE=DATE-TIME:20260426T041317Z
CATEGORIES:APPOINTMENT
DESCRIPTION:Ofi for 9/24 Tanner Street\, Richmond VIC 3121 
LOCATION:9/24 Tanner Street\, Richmond VIC 3121 
URL:https://www.nelsonalexander.com.au/property/1891818/924-tanner-street-
 richmond-vic-3121/
END:VEVENT
END:VCALENDAR
