BEGIN:VCALENDAR
VERSION:2.0
PRODID:-// Nelson Alexander - Northcote iCal
CALSCALE:GREGORIAN
X-WR-CALDESC:
X-WR-CALNAME:
BEGIN:VEVENT
SUMMARY:Ofi for 40 Collier Crescent\, Brunswick VIC 3056 
DTSTART;TZID=UTC;VALUE=DATE-TIME:20260429T070000Z
DTEND;TZID=UTC;VALUE=DATE-TIME:20260429T073000Z
DTSTAMP;VALUE=DATE-TIME:20260426T035441Z
CATEGORIES:APPOINTMENT
DESCRIPTION:Ofi for 40 Collier Crescent\, Brunswick VIC 3056 
LOCATION:40 Collier Crescent\, Brunswick VIC 3056 
URL:https://www.nelsonalexander.com.au/property/1891784/40-collier-crescen
 t-brunswick-vic-3056/
END:VEVENT
END:VCALENDAR
