BEGIN:VCALENDAR
VERSION:2.0
PRODID:-// Nelson Alexander - Northcote iCal
CALSCALE:GREGORIAN
X-WR-CALDESC:
X-WR-CALNAME:
BEGIN:VEVENT
SUMMARY:Ofi for 6/28 Lorensen Avenue\, Coburg North VIC 3058 
DTSTART;TZID=UTC;VALUE=DATE-TIME:20260428T080000Z
DTEND;TZID=UTC;VALUE=DATE-TIME:20260428T083000Z
DTSTAMP;VALUE=DATE-TIME:20260426T042058Z
CATEGORIES:APPOINTMENT
DESCRIPTION:Ofi for 6/28 Lorensen Avenue\, Coburg North VIC 3058 
LOCATION:6/28 Lorensen Avenue\, Coburg North VIC 3058 
URL:https://www.nelsonalexander.com.au/property/1891719/628-lorensen-avenu
 e-coburg-north-vic-3058/
END:VEVENT
END:VCALENDAR
