BEGIN:VCALENDAR
VERSION:2.0
PRODID:-// Nelson Alexander - Northcote iCal
CALSCALE:GREGORIAN
X-WR-CALDESC:
X-WR-CALNAME:
BEGIN:VEVENT
SUMMARY:Ofi for 1/25 Frater Street\, Kew East VIC 3102 
DTSTART;TZID=UTC;VALUE=DATE-TIME:20260430T233000Z
DTEND;TZID=UTC;VALUE=DATE-TIME:20260430T234000Z
DTSTAMP;VALUE=DATE-TIME:20260426T013527Z
CATEGORIES:APPOINTMENT
DESCRIPTION:Ofi for 1/25 Frater Street\, Kew East VIC 3102 
LOCATION:1/25 Frater Street\, Kew East VIC 3102 
URL:https://www.nelsonalexander.com.au/property/1891695/125-frater-street-
 kew-east-vic-3102/
END:VEVENT
END:VCALENDAR
