BEGIN:VCALENDAR
VERSION:2.0
PRODID:-// Nelson Alexander - Northcote iCal
CALSCALE:GREGORIAN
X-WR-CALDESC:
X-WR-CALNAME:
BEGIN:VEVENT
SUMMARY:Ofi for 3/7 Johnson Street\, Reservoir VIC 3073 
DTSTART;TZID=UTC;VALUE=DATE-TIME:20260429T071500Z
DTEND;TZID=UTC;VALUE=DATE-TIME:20260429T073000Z
DTSTAMP;VALUE=DATE-TIME:20260425T232446Z
CATEGORIES:APPOINTMENT
DESCRIPTION:Ofi for 3/7 Johnson Street\, Reservoir VIC 3073 
LOCATION:3/7 Johnson Street\, Reservoir VIC 3073 
URL:https://www.nelsonalexander.com.au/property/1891594/37-johnson-street-
 reservoir-vic-3073/
END:VEVENT
END:VCALENDAR
