BEGIN:VCALENDAR
VERSION:2.0
PRODID:-// Nelson Alexander - Northcote iCal
CALSCALE:GREGORIAN
X-WR-CALDESC:
X-WR-CALNAME:
BEGIN:VEVENT
SUMMARY:Ofi for 143 Church Street\, Hawthorn VIC 3122 
DTSTART;TZID=UTC;VALUE=DATE-TIME:20260429T062000Z
DTEND;TZID=UTC;VALUE=DATE-TIME:20260429T063000Z
DTSTAMP;VALUE=DATE-TIME:20260425T234341Z
CATEGORIES:APPOINTMENT
DESCRIPTION:Ofi for 143 Church Street\, Hawthorn VIC 3122 
LOCATION:143 Church Street\, Hawthorn VIC 3122 
URL:https://www.nelsonalexander.com.au/property/1891561/143-church-street-
 hawthorn-vic-3122/
END:VEVENT
END:VCALENDAR
