BEGIN:VCALENDAR
VERSION:2.0
PRODID:-// Nelson Alexander - Northcote iCal
CALSCALE:GREGORIAN
X-WR-CALDESC:
X-WR-CALNAME:
BEGIN:VEVENT
SUMMARY:Ofi for 195 Victoria Road\, Northcote VIC 3070 
DTSTART;TZID=UTC;VALUE=DATE-TIME:20260430T070000Z
DTEND;TZID=UTC;VALUE=DATE-TIME:20260430T071500Z
DTSTAMP;VALUE=DATE-TIME:20260426T025644Z
CATEGORIES:APPOINTMENT
DESCRIPTION:Ofi for 195 Victoria Road\, Northcote VIC 3070 
LOCATION:195 Victoria Road\, Northcote VIC 3070 
URL:https://www.nelsonalexander.com.au/property/1891517/195-victoria-road-
 northcote-vic-3070/
END:VEVENT
END:VCALENDAR
