BEGIN:VCALENDAR
VERSION:2.0
PRODID:-// Nelson Alexander - Northcote iCal
CALSCALE:GREGORIAN
X-WR-CALDESC:
X-WR-CALNAME:
BEGIN:VEVENT
SUMMARY:Ofi for 905/33 Judd Street\, Richmond VIC 3121 
DTSTART;TZID=UTC;VALUE=DATE-TIME:20260430T070000Z
DTEND;TZID=UTC;VALUE=DATE-TIME:20260430T071500Z
DTSTAMP;VALUE=DATE-TIME:20260425T234017Z
CATEGORIES:APPOINTMENT
DESCRIPTION:Ofi for 905/33 Judd Street\, Richmond VIC 3121 
LOCATION:905/33 Judd Street\, Richmond VIC 3121 
URL:https://www.nelsonalexander.com.au/property/1891514/90533-judd-street-
 richmond-vic-3121/
END:VEVENT
END:VCALENDAR
