BEGIN:VCALENDAR
VERSION:2.0
PRODID:-// Nelson Alexander - Northcote iCal
CALSCALE:GREGORIAN
X-WR-CALDESC:
X-WR-CALNAME:
BEGIN:VEVENT
SUMMARY:Ofi for 402/227 Toorak Road West South Yarra VIC 3141 
DTSTART;TZID=UTC;VALUE=DATE-TIME:20260424T020000Z
DTEND;TZID=UTC;VALUE=DATE-TIME:20260424T023000Z
DTSTAMP;VALUE=DATE-TIME:20260422T000630Z
CATEGORIES:APPOINTMENT
DESCRIPTION:Ofi for 402/227 Toorak Road West South Yarra VIC 3141 
LOCATION:402/227 Toorak Road West South Yarra VIC 3141 
URL:https://www.nelsonalexander.com.au/property/1890931/402227-toorak-road
 -west-south-yarra-vic-3141/
END:VEVENT
END:VCALENDAR
