BEGIN:VCALENDAR
VERSION:2.0
PRODID:-// Nelson Alexander - Northcote iCal
CALSCALE:GREGORIAN
X-WR-CALDESC:
X-WR-CALNAME:
BEGIN:VEVENT
SUMMARY:Ofi for 21/89-91 Denham Street\, Hawthorn VIC 3122 
DTSTART;TZID=UTC;VALUE=DATE-TIME:20260424T020000Z
DTEND;TZID=UTC;VALUE=DATE-TIME:20260424T023000Z
DTSTAMP;VALUE=DATE-TIME:20260421T222238Z
CATEGORIES:APPOINTMENT
DESCRIPTION:Ofi for 21/89-91 Denham Street\, Hawthorn VIC 3122 
LOCATION:21/89-91 Denham Street\, Hawthorn VIC 3122 
URL:https://www.nelsonalexander.com.au/property/1890888/2189-91-denham-str
 eet-hawthorn-vic-3122/
END:VEVENT
END:VCALENDAR
