BEGIN:VCALENDAR
VERSION:2.0
PRODID:-// Nelson Alexander - Northcote iCal
CALSCALE:GREGORIAN
X-WR-CALDESC:
X-WR-CALNAME:
BEGIN:VEVENT
SUMMARY:Ofi for 3/56 Leicester Street\, Fitzroy VIC 3065 
DTSTART;TZID=UTC;VALUE=DATE-TIME:20260430T070000Z
DTEND;TZID=UTC;VALUE=DATE-TIME:20260430T071500Z
DTSTAMP;VALUE=DATE-TIME:20260426T041516Z
CATEGORIES:APPOINTMENT
DESCRIPTION:Ofi for 3/56 Leicester Street\, Fitzroy VIC 3065 
LOCATION:3/56 Leicester Street\, Fitzroy VIC 3065 
URL:https://www.nelsonalexander.com.au/property/1890845/356-leicester-stre
 et-fitzroy-vic-3065/
END:VEVENT
END:VCALENDAR
