BEGIN:VCALENDAR
VERSION:2.0
PRODID:-// Nelson Alexander - Northcote iCal
CALSCALE:GREGORIAN
X-WR-CALDESC:
X-WR-CALNAME:
BEGIN:VEVENT
SUMMARY:Ofi for 3/41 Campbell Road\, Hawthorn East VIC 3123 
DTSTART;TZID=UTC;VALUE=DATE-TIME:20260423T043000Z
DTEND;TZID=UTC;VALUE=DATE-TIME:20260423T044000Z
DTSTAMP;VALUE=DATE-TIME:20260422T041540Z
CATEGORIES:APPOINTMENT
DESCRIPTION:Ofi for 3/41 Campbell Road\, Hawthorn East VIC 3123 
LOCATION:3/41 Campbell Road\, Hawthorn East VIC 3123 
URL:https://www.nelsonalexander.com.au/property/1890780/341-campbell-road-
 hawthorn-east-vic-3123/
END:VEVENT
END:VCALENDAR
