BEGIN:VCALENDAR
VERSION:2.0
PRODID:-// Nelson Alexander - Northcote iCal
CALSCALE:GREGORIAN
X-WR-CALDESC:
X-WR-CALNAME:
BEGIN:VEVENT
SUMMARY:Ofi for 6/201 Wellington Parade South\, East Melbourne VIC 3002 
DTSTART;TZID=UTC;VALUE=DATE-TIME:20260423T070000Z
DTEND;TZID=UTC;VALUE=DATE-TIME:20260423T071500Z
DTSTAMP;VALUE=DATE-TIME:20260421T235304Z
CATEGORIES:APPOINTMENT
DESCRIPTION:Ofi for 6/201 Wellington Parade South\, East Melbourne VIC 300
 2 
LOCATION:6/201 Wellington Parade South\, East Melbourne VIC 3002 
URL:https://www.nelsonalexander.com.au/property/1890732/6201-wellington-pa
 rade-south-east-melbourne-vic-3002/
END:VEVENT
END:VCALENDAR
