BEGIN:VCALENDAR
VERSION:2.0
PRODID:-// Nelson Alexander - Northcote iCal
CALSCALE:GREGORIAN
X-WR-CALDESC:
X-WR-CALNAME:
BEGIN:VEVENT
SUMMARY:Ofi for 4/863 Glenferrie Road\, Kew VIC 3101 
DTSTART;TZID=UTC;VALUE=DATE-TIME:20260424T010000Z
DTEND;TZID=UTC;VALUE=DATE-TIME:20260424T011000Z
DTSTAMP;VALUE=DATE-TIME:20260421T223526Z
CATEGORIES:APPOINTMENT
DESCRIPTION:Ofi for 4/863 Glenferrie Road\, Kew VIC 3101 
LOCATION:4/863 Glenferrie Road\, Kew VIC 3101 
URL:https://www.nelsonalexander.com.au/property/1890551/4863-glenferrie-ro
 ad-kew-vic-3101/
END:VEVENT
END:VCALENDAR
