BEGIN:VCALENDAR
VERSION:2.0
PRODID:-// Nelson Alexander - Northcote iCal
CALSCALE:GREGORIAN
X-WR-CALDESC:
X-WR-CALNAME:
BEGIN:VEVENT
SUMMARY:Ofi for 3 Ryder Street\, Niddrie VIC 3042 
DTSTART;TZID=UTC;VALUE=DATE-TIME:20260427T030000Z
DTEND;TZID=UTC;VALUE=DATE-TIME:20260427T032000Z
DTSTAMP;VALUE=DATE-TIME:20260421T223341Z
CATEGORIES:APPOINTMENT
DESCRIPTION:Ofi for 3 Ryder Street\, Niddrie VIC 3042 
LOCATION:3 Ryder Street\, Niddrie VIC 3042 
URL:https://www.nelsonalexander.com.au/property/1889729/3-ryder-street-nid
 drie-vic-3042/
END:VEVENT
END:VCALENDAR
