BEGIN:VCALENDAR
VERSION:2.0
PRODID:-// Nelson Alexander - Northcote iCal
CALSCALE:GREGORIAN
X-WR-CALDESC:
X-WR-CALNAME:
BEGIN:VEVENT
SUMMARY:Ofi for 3/7 Wilgah Street\, Thomastown VIC 3074 
DTSTART;TZID=UTC;VALUE=DATE-TIME:20260425T041500Z
DTEND;TZID=UTC;VALUE=DATE-TIME:20260425T044500Z
DTSTAMP;VALUE=DATE-TIME:20260419T230348Z
CATEGORIES:APPOINTMENT
DESCRIPTION:Ofi for 3/7 Wilgah Street\, Thomastown VIC 3074 
LOCATION:3/7 Wilgah Street\, Thomastown VIC 3074 
URL:https://www.nelsonalexander.com.au/property/1889049/37-wilgah-street-t
 homastown-vic-3074/
END:VEVENT
END:VCALENDAR
