BEGIN:VCALENDAR
VERSION:2.0
PRODID:-// Nelson Alexander - Northcote iCal
CALSCALE:GREGORIAN
X-WR-CALDESC:
X-WR-CALNAME:
BEGIN:VEVENT
SUMMARY:Ofi for 19/40 Ormond Road\, Elwood VIC 3184 
DTSTART;TZID=UTC;VALUE=DATE-TIME:20260425T030000Z
DTEND;TZID=UTC;VALUE=DATE-TIME:20260425T031500Z
DTSTAMP;VALUE=DATE-TIME:20260421T235317Z
CATEGORIES:APPOINTMENT
DESCRIPTION:Ofi for 19/40 Ormond Road\, Elwood VIC 3184 
LOCATION:19/40 Ormond Road\, Elwood VIC 3184 
URL:https://www.nelsonalexander.com.au/property/1889002/1940-ormond-road-e
 lwood-vic-3184/
END:VEVENT
END:VCALENDAR
