BEGIN:VCALENDAR
VERSION:2.0
PRODID:-// Nelson Alexander - Northcote iCal
CALSCALE:GREGORIAN
X-WR-CALDESC:
X-WR-CALNAME:
BEGIN:VEVENT
SUMMARY:Ofi for 1/95 Victoria Street\, Flemington VIC 3031 
DTSTART;TZID=UTC;VALUE=DATE-TIME:20260422T070000Z
DTEND;TZID=UTC;VALUE=DATE-TIME:20260422T073000Z
DTSTAMP;VALUE=DATE-TIME:20260421T235019Z
CATEGORIES:APPOINTMENT
DESCRIPTION:Ofi for 1/95 Victoria Street\, Flemington VIC 3031 
LOCATION:1/95 Victoria Street\, Flemington VIC 3031 
URL:https://www.nelsonalexander.com.au/property/1888865/195-victoria-stree
 t-flemington-vic-3031/
END:VEVENT
END:VCALENDAR
