BEGIN:VCALENDAR
VERSION:2.0
PRODID:-// Nelson Alexander - Northcote iCal
CALSCALE:GREGORIAN
X-WR-CALDESC:
X-WR-CALNAME:
BEGIN:VEVENT
SUMMARY:Ofi for 2/11 John Street\, Blackburn VIC 3130 
DTSTART;TZID=UTC;VALUE=DATE-TIME:20260424T030000Z
DTEND;TZID=UTC;VALUE=DATE-TIME:20260424T031000Z
DTSTAMP;VALUE=DATE-TIME:20260420T014102Z
CATEGORIES:APPOINTMENT
DESCRIPTION:Ofi for 2/11 John Street\, Blackburn VIC 3130 
LOCATION:2/11 John Street\, Blackburn VIC 3130 
URL:https://www.nelsonalexander.com.au/property/1888381/211-john-street-bl
 ackburn-vic-3130/
END:VEVENT
END:VCALENDAR
