BEGIN:VCALENDAR
VERSION:2.0
PRODID:-// Nelson Alexander - Northcote iCal
CALSCALE:GREGORIAN
X-WR-CALDESC:
X-WR-CALNAME:
BEGIN:VEVENT
SUMMARY:Ofi for 14 Wunnamurra Drive\, Keilor East VIC 3033 
DTSTART;TZID=UTC;VALUE=DATE-TIME:20260421T070000Z
DTEND;TZID=UTC;VALUE=DATE-TIME:20260421T071500Z
DTSTAMP;VALUE=DATE-TIME:20260420T004315Z
CATEGORIES:APPOINTMENT
DESCRIPTION:Ofi for 14 Wunnamurra Drive\, Keilor East VIC 3033 
LOCATION:14 Wunnamurra Drive\, Keilor East VIC 3033 
URL:https://www.nelsonalexander.com.au/property/1888261/14-wunnamurra-driv
 e-keilor-east-vic-3033/
END:VEVENT
END:VCALENDAR
