BEGIN:VCALENDAR
VERSION:2.0
PRODID:-// Nelson Alexander - Northcote iCal
CALSCALE:GREGORIAN
X-WR-CALDESC:
X-WR-CALNAME:
BEGIN:VEVENT
SUMMARY:Ofi for g12/307 Barkers Road\, Kew VIC 3101 
DTSTART;TZID=UTC;VALUE=DATE-TIME:20260423T030000Z
DTEND;TZID=UTC;VALUE=DATE-TIME:20260423T033000Z
DTSTAMP;VALUE=DATE-TIME:20260419T223926Z
CATEGORIES:APPOINTMENT
DESCRIPTION:Ofi for g12/307 Barkers Road\, Kew VIC 3101 
LOCATION:g12/307 Barkers Road\, Kew VIC 3101 
URL:https://www.nelsonalexander.com.au/property/1888240/g12307-barkers-roa
 d-kew-vic-3101/
END:VEVENT
END:VCALENDAR
