BEGIN:VCALENDAR
VERSION:2.0
PRODID:-// Nelson Alexander - Northcote iCal
CALSCALE:GREGORIAN
X-WR-CALDESC:
X-WR-CALNAME:
BEGIN:VEVENT
SUMMARY:Ofi for 2/54 Liddiard Street\, Hawthorn VIC 3122 
DTSTART;TZID=UTC;VALUE=DATE-TIME:20260424T070000Z
DTEND;TZID=UTC;VALUE=DATE-TIME:20260424T071500Z
DTSTAMP;VALUE=DATE-TIME:20260419T230525Z
CATEGORIES:APPOINTMENT
DESCRIPTION:Ofi for 2/54 Liddiard Street\, Hawthorn VIC 3122 
LOCATION:2/54 Liddiard Street\, Hawthorn VIC 3122 
URL:https://www.nelsonalexander.com.au/property/1888251/254-liddiard-stree
 t-hawthorn-vic-3122/
END:VEVENT
END:VCALENDAR
