BEGIN:VCALENDAR
VERSION:2.0
PRODID:-// Nelson Alexander - Northcote iCal
CALSCALE:GREGORIAN
X-WR-CALDESC:
X-WR-CALNAME:
BEGIN:VEVENT
SUMMARY:Ofi for 3/10 Severn Street\, Balwyn North VIC 3104 
DTSTART;TZID=UTC;VALUE=DATE-TIME:20260423T040000Z
DTEND;TZID=UTC;VALUE=DATE-TIME:20260423T043000Z
DTSTAMP;VALUE=DATE-TIME:20260420T001616Z
CATEGORIES:APPOINTMENT
DESCRIPTION:Ofi for 3/10 Severn Street\, Balwyn North VIC 3104 
LOCATION:3/10 Severn Street\, Balwyn North VIC 3104 
URL:https://www.nelsonalexander.com.au/property/1888243/310-severn-street-
 balwyn-north-vic-3104/
END:VEVENT
END:VCALENDAR
