BEGIN:VCALENDAR
VERSION:2.0
PRODID:-// Nelson Alexander - Northcote iCal
CALSCALE:GREGORIAN
X-WR-CALDESC:
X-WR-CALNAME:
BEGIN:VEVENT
SUMMARY:Ofi for 140 Westgarth Street\, Northcote VIC 3070 
DTSTART;TZID=UTC;VALUE=DATE-TIME:20260421T021500Z
DTEND;TZID=UTC;VALUE=DATE-TIME:20260421T023000Z
DTSTAMP;VALUE=DATE-TIME:20260420T013540Z
CATEGORIES:APPOINTMENT
DESCRIPTION:Ofi for 140 Westgarth Street\, Northcote VIC 3070 
LOCATION:140 Westgarth Street\, Northcote VIC 3070 
URL:https://www.nelsonalexander.com.au/property/1887988/140-westgarth-stre
 et-northcote-vic-3070/
END:VEVENT
END:VCALENDAR
