BEGIN:VCALENDAR
VERSION:2.0
PRODID:-// Nelson Alexander - Northcote iCal
CALSCALE:GREGORIAN
X-WR-CALDESC:
X-WR-CALNAME:
BEGIN:VEVENT
SUMMARY:Ofi for 6/340 Cotham Road\, Kew VIC 3101 
DTSTART;TZID=UTC;VALUE=DATE-TIME:20260430T070000Z
DTEND;TZID=UTC;VALUE=DATE-TIME:20260430T071500Z
DTSTAMP;VALUE=DATE-TIME:20260425T233733Z
CATEGORIES:APPOINTMENT
DESCRIPTION:Ofi for 6/340 Cotham Road\, Kew VIC 3101 
LOCATION:6/340 Cotham Road\, Kew VIC 3101 
URL:https://www.nelsonalexander.com.au/property/1887701/6340-cotham-road-k
 ew-vic-3101/
END:VEVENT
END:VCALENDAR
