BEGIN:VCALENDAR
VERSION:2.0
PRODID:-// Nelson Alexander - Northcote iCal
CALSCALE:GREGORIAN
X-WR-CALDESC:
X-WR-CALNAME:
BEGIN:VEVENT
SUMMARY:Ofi for 8/80 Burke Road\, Malvern East VIC 3145 
DTSTART;TZID=UTC;VALUE=DATE-TIME:20260422T020000Z
DTEND;TZID=UTC;VALUE=DATE-TIME:20260422T023000Z
DTSTAMP;VALUE=DATE-TIME:20260420T002455Z
CATEGORIES:APPOINTMENT
DESCRIPTION:Ofi for 8/80 Burke Road\, Malvern East VIC 3145 
LOCATION:8/80 Burke Road\, Malvern East VIC 3145 
URL:https://www.nelsonalexander.com.au/property/1886704/880-burke-road-mal
 vern-east-vic-3145/
END:VEVENT
END:VCALENDAR
