BEGIN:VCALENDAR
VERSION:2.0
PRODID:-// Nelson Alexander - Northcote iCal
CALSCALE:GREGORIAN
X-WR-CALDESC:
X-WR-CALNAME:
BEGIN:VEVENT
SUMMARY:Ofi for 23 Charlotte Street\, Collingwood VIC 3066 
DTSTART;TZID=UTC;VALUE=DATE-TIME:20260423T020000Z
DTEND;TZID=UTC;VALUE=DATE-TIME:20260423T023000Z
DTSTAMP;VALUE=DATE-TIME:20260419T232026Z
CATEGORIES:APPOINTMENT
DESCRIPTION:Ofi for 23 Charlotte Street\, Collingwood VIC 3066 
LOCATION:23 Charlotte Street\, Collingwood VIC 3066 
URL:https://www.nelsonalexander.com.au/property/1886656/23-charlotte-stree
 t-collingwood-vic-3066/
END:VEVENT
END:VCALENDAR
